BEGIN:VCALENDAR
PRODID:-//AT Content Types//AT Event//EN
VERSION:2.0
METHOD:PUBLISH
BEGIN:VEVENT
DTSTAMP:20260422T101610Z
CREATED:20200703T123327Z
UID:ATEvent-98d468afcf954e1da6e94a3126abc765
LAST-MODIFIED:20210519T085203Z
SUMMARY:Weihnachtsferien
DTSTART:20211222T230000Z
DTEND:20211231T225500Z
CLASS:PUBLIC
END:VEVENT
END:VCALENDAR
