BEGIN:VCALENDAR
PRODID:-//AT Content Types//AT Event//EN
VERSION:2.0
METHOD:PUBLISH
BEGIN:VEVENT
DTSTAMP:20260426T014539Z
CREATED:20210720T084826Z
UID:ATEvent-7b820c5769ff42ceb0fa3a3ea96f79fe
LAST-MODIFIED:20210720T084830Z
SUMMARY:MSS 13: Meldung zur schriftlichen Abiturprüfung
DTSTART:20210830T091500Z
DTEND:20210830T110500Z
DESCRIPTION:4.-6. Stunde: Meldung zur schriftlichen Abiturprüfung und
  Information über die Qualifikationsberechnung für das Abitur in der
  Sporthalle des St.-Willibrord-Gymnasiums (Aufteilung nach Stammkursen
  und genauer Zeitplan werden noch bekanntgegeben)
LOCATION:Sporthalle - St-Willibrord Gymnasium
CLASS:PUBLIC
END:VEVENT
END:VCALENDAR
