BEGIN:VCALENDAR
PRODID:-//AT Content Types//AT Event//EN
VERSION:2.0
METHOD:PUBLISH
BEGIN:VEVENT
DTSTAMP:20260420T222136Z
CREATED:20210720T084325Z
UID:ATEvent-f01b33d7a0a9458c9277f46b653f5921
LAST-MODIFIED:20210720T084329Z
SUMMARY:MSS 12:Stammkursleiterstunden
DTSTART:20210830T055500Z
DTEND:20210830T072500Z
DESCRIPTION:danach Unterricht nach Plan ( auch am Nachmittag)
CLASS:PUBLIC
END:VEVENT
END:VCALENDAR
