BEGIN:VCALENDAR
PRODID:-//AT Content Types//AT Event//EN
VERSION:1.0
BEGIN:VEVENT
DTSTART:20210709T083500Z
DTEND:20210712T083500Z
DCREATED:20210706T083353Z
UID:ATEvent-91e7b2c962714bdb890e96ace15542cf
SEQUENCE:0
LAST-MODIFIED:20210706T083446Z
SUMMARY:Aufnahmeprüfung zur Klasse 7
PRIORITY:3
TRANSP:0
END:VEVENT
END:VCALENDAR
