BEGIN:VCALENDAR
PRODID:-//AT Content Types//AT Event//EN
VERSION:2.0
METHOD:PUBLISH
BEGIN:VEVENT
DTSTAMP:20260419T160549Z
CREATED:20210519T092349Z
UID:ATEvent-73433aa6bf844dd3a909ba982abd9a00
LAST-MODIFIED:20210519T092354Z
SUMMARY:Pfingstmontag (gesetzlicher Feiertag)
DTSTART:20220605T220000Z
DTEND:20220605T220000Z
CLASS:PUBLIC
END:VEVENT
END:VCALENDAR
